BEGIN:VCALENDAR
VERSION:2.0
PRODID:-//Eco-Technology - ECPv6.8.2.1//NONSGML v1.0//EN
CALSCALE:GREGORIAN
METHOD:PUBLISH
X-WR-CALNAME:Eco-Technology
X-ORIGINAL-URL:https://eco-technology.it
X-WR-CALDESC:Eventi per Eco-Technology
REFRESH-INTERVAL;VALUE=DURATION:PT1H
X-Robots-Tag:noindex
X-PUBLISHED-TTL:PT1H
BEGIN:VTIMEZONE
TZID:UTC
BEGIN:STANDARD
TZOFFSETFROM:+0000
TZOFFSETTO:+0000
TZNAME:UTC
DTSTART:20230101T000000
END:STANDARD
END:VTIMEZONE
BEGIN:VEVENT
DTSTART;TZID=UTC:20231108T080000
DTEND;TZID=UTC:20231108T180000
DTSTAMP:20260421T002242
CREATED:20250113T152753Z
LAST-MODIFIED:20250113T152753Z
UID:1649-1699430400-1699466400@eco-technology.it
SUMMARY:Collegio dei periti industriali Siena 08-11-2023
DESCRIPTION:Il giorno 8 novembre 2023 si svolgerà per il Collegio Periti Industriali di Siena il convegno: \n“Esperienze di trattamento acqua con sistemi anticalcare antilegionella in Toscana\, Emilia Romagna e Lombardia” \ncon Biologo  Dr. Michele Totaro ed il per.ind. Paola Sartoni. \n 
URL:https://eco-technology.it/evento/collegio-dei-periti-industriali-siena-08-11-2023/
LOCATION:Collegio Periti Industriali di Siena\, Italy
ORGANIZER;CN="Eco-Technology":MAILTO:info@eco-technology.it
END:VEVENT
END:VCALENDAR